BEGIN:VCALENDAR
VERSION:2.0
PRODID:-//eventon.com NONSGML v1.0//EN
CALSCALE:GREGORIAN
METHOD:PUBLISH
BEGIN:VEVENT
UID:69e7a7eb3accf
DTSTAMP:20260422T003803
DTSTART:20260315
DTEND:20260316
TZID:Australia/Perth
LOCATION:
SUMMARY:St Patrick's Day
DESCRIPTION:To be sure&#8230; St Patrick&#8217;s Day is double the fun this year as we celebrate on Sunday 15th as well as Tuesday 17th of March. We&#8217;ll have traditional Irish food specials and all your favourite Irish drinks\,  plus check out our lineup of entertainment across both days. With free entry[..]\nhttps://oldcourthouse.com.au/events/st-patricks-day/
URL:https://oldcourthouse.com.au/events/st-patricks-day/
END:VEVENT
END:VCALENDAR