BEGIN:VCALENDAR
VERSION:2.0
PRODID:-//eventon.com NONSGML v1.0//EN
CALSCALE:GREGORIAN
METHOD:PUBLISH
BEGIN:VEVENT
UID:69e78c991dbc9
DTSTAMP:20260421T224129
DTSTART:20260515T193000Z
DTEND:20260515T235900Z
TZID:Australia/Perth
LOCATION:
SUMMARY:Blues Brothers Tribute
DESCRIPTION:The Australian Blues Brothers tribute show band are the most entertaining Blues Brothers tribute band in Australia and Asia. Australia’s premier Blues Brothers tribute show has packed theatres\,  dance floors and festivals around the world. International performances have taken the band to Singapore\,  Indonesia and Hong Kong. Closer to home\, [..]\nhttps://oldcourthouse.com.au/events/blues-brothers-tribute/
URL:https://oldcourthouse.com.au/events/blues-brothers-tribute/
END:VEVENT
END:VCALENDAR