BEGIN:VCALENDAR
VERSION:2.0
PRODID:-//eventon.com NONSGML v1.0//EN
CALSCALE:GREGORIAN
METHOD:PUBLISH
BEGIN:VEVENT
UID:69e78d6ef37a1
DTSTAMP:20260421T224502
DTSTART:20260429T170000Z
DTEND:20260429T235900Z
TZID:Australia/Perth
LOCATION:
SUMMARY:Wednesday Night
DESCRIPTION:Hype up your hump day\,  every Wednesday at the Old Courthouse. From 530pm\,  we&#8217;ll have a talented line-up of local musos playing the soundtrack to your sundowners. Entry is free every week! HALF PRICE COCKTAILS From 5pm until late you can enjoy all of our delicious cocktail creations HALF PRICE!![..]\nhttps://oldcourthouse.com.au/events/wednesday-night-half-price-cocktails/var/ri-23.l-L1
URL:https://oldcourthouse.com.au/events/wednesday-night-half-price-cocktails/var/ri-23.l-L1
END:VEVENT
END:VCALENDAR