BEGIN:VCALENDAR
VERSION:2.0
PRODID:-//eventon.com NONSGML v1.0//EN
CALSCALE:GREGORIAN
METHOD:PUBLISH
BEGIN:VEVENT
UID:69e7a807d6240
DTSTAMP:20260422T003831
DTSTART:20220616T180000Z
DTEND:20220616T230000Z
TZID:Australia/Perth
LOCATION:
SUMMARY:Penfolds Wine Dinner
DESCRIPTION:We are excited to announce that we will be hosting a very special dinner featuring wines from the Penfolds range.  You host for the evening will be Zoe Warrington – Penfolds Brand Ambassador. This will be an exclusive event with a decadent food menu and the highlight of the iconic Grange.&nbsp;[..]\nhttps://oldcourthouse.com.au/events/penfolds-wine-dinner/
URL:https://oldcourthouse.com.au/events/penfolds-wine-dinner/
END:VEVENT
END:VCALENDAR