BEGIN:VCALENDAR
VERSION:2.0
PRODID:-//eventon.com NONSGML v1.0//EN
CALSCALE:GREGORIAN
METHOD:PUBLISH
BEGIN:VEVENT
UID:69e4eff0ccde7
DTSTAMP:20260419T230832
DTSTART:20251104T103000Z
DTEND:20251104T235900Z
TZID:Australia/Perth
LOCATION:
SUMMARY:Melbourne Cup
DESCRIPTION:It&#8217;s time to take the stand for Cup Day capers at the Old Courthouse. Catch every stride of the big race live as you sip\,  savour\,  and celebrate a day at the races—Courthouse style. Courthouse Luncheon $65pp • 2-course set lunch with drink on arrival\,  served in our beautifully restored[..]\nhttps://oldcourthouse.com.au/events/melbourne-cup/
URL:https://oldcourthouse.com.au/events/melbourne-cup/
END:VEVENT
END:VCALENDAR