BEGIN:VCALENDAR
VERSION:2.0
PRODID:-//eventon.com NONSGML v1.0//EN
CALSCALE:GREGORIAN
METHOD:PUBLISH
BEGIN:VEVENT
UID:69e78ce8e3815
DTSTAMP:20260421T224248
DTSTART:20260425T120000Z
DTEND:20260427T210000Z
TZID:Australia/Perth
LOCATION:
SUMMARY:Long Weekend
DESCRIPTION:Long Weekend Plans? We’ve Got You Covered! The Old Courthouse will be open all Anzac Day long weekend\,  including Monday\,  April 27. 🎶 LIVE MUSIC LINE-UP Saturday &#8211; 2pm Mark Stone | 5pm DJ Sunset Sessions Vol VIII Sunday &#8211; 2pm Nasman Donovan | 630pm Jeff Morton Monday &#8211; 2pm[..]\nhttps://oldcourthouse.com.au/events/long-weekend/
URL:https://oldcourthouse.com.au/events/long-weekend/
END:VEVENT
END:VCALENDAR