BEGIN:VCALENDAR
VERSION:2.0
PRODID:-//eventon.com NONSGML v1.0//EN
CALSCALE:GREGORIAN
METHOD:PUBLISH
BEGIN:VEVENT
UID:69e7a6d789cac
DTSTAMP:20260422T003327
DTSTART:20260214T170000Z
DTEND:20260214T235900Z
TZID:Australia/Perth
LOCATION:
SUMMARY:Valentine's Day
DESCRIPTION:A summons has been issued for all lovers : Put your love on trial and join us in court this Valentine&#8217;s Day. Guests will indulge in a three course dinner menu including; On arrival: Seductive cocktail served for each guest Entree: Shared chef’s plate Main: your choice of main course[..]\nhttps://oldcourthouse.com.au/events/valentines-day/
URL:https://oldcourthouse.com.au/events/valentines-day/
END:VEVENT
END:VCALENDAR