BEGIN:VCALENDAR
VERSION:2.0
PRODID:-//eventon.com NONSGML v1.0//EN
CALSCALE:GREGORIAN
METHOD:PUBLISH
BEGIN:VEVENT
UID:69e7a7eb33fbc
DTSTAMP:20260422T003803
DTSTART:20251225T120000Z
DTEND:20251225T235900Z
TZID:Australia/Perth
LOCATION:
SUMMARY:Christmas Day Lunch
DESCRIPTION:Join us for a sumptuous Christmas lunch with family or friends. We have created a three course menu which can be enjoyed with or without a beverage package that includes wines\,  our range of tap beer and cider. The kids will be well looked after with a selection of kids[..]\nhttps://oldcourthouse.com.au/events/christmas-luncheon-2023/
URL:https://oldcourthouse.com.au/events/christmas-luncheon-2023/
END:VEVENT
END:VCALENDAR