BEGIN:VCALENDAR
VERSION:2.0
PRODID:-//eventon.com NONSGML v1.0//EN
CALSCALE:GREGORIAN
METHOD:PUBLISH
BEGIN:VEVENT
UID:69e4db3bc10b3
DTSTAMP:20260419T214011
DTSTART:20241110T200000Z
DTEND:20241110T235900Z
TZID:Australia/Perth
LOCATION:
SUMMARY:Burlesque
DESCRIPTION:Ooh la la! Glitz\,  glamour and grandeur will grace the Old Courthouse with Sky High Burlesque show performing live in a show that would have made the early patrons of the Old Courthouse blush. Be captivated by a glamorous vintage burlesque show starring four alluring performers in eight irresistible show[..]\nhttps://oldcourthouse.com.au/events/burlesque/
URL:https://oldcourthouse.com.au/events/burlesque/
END:VEVENT
END:VCALENDAR