BEGIN:VCALENDAR
VERSION:2.0
PRODID:-//eventon.com NONSGML v1.0//EN
CALSCALE:GREGORIAN
METHOD:PUBLISH
BEGIN:VEVENT
UID:69e7a7875c70a
DTSTAMP:20260422T003623
DTSTART:20240814T183000Z
DTEND:20240814T235900Z
TZID:Australia/Perth
LOCATION:
SUMMARY:Xanadu Wine Dinner
DESCRIPTION:Tucked away in Australia’s south-west corner just 4km from Margaret River’s town center and an equal distance from the magnificent coastline\,  Xanadu has a long history of crafting outstanding wines that embody all the region has to offer. Join us on a journey through Xanadu&#8217;s flagship wines as we explore[..]\nhttps://oldcourthouse.com.au/events/xanadu-wine-dinner/
URL:https://oldcourthouse.com.au/events/xanadu-wine-dinner/
END:VEVENT
END:VCALENDAR