BEGIN:VCALENDAR
VERSION:2.0
PRODID:-//eventon.com NONSGML v1.0//EN
CALSCALE:GREGORIAN
METHOD:PUBLISH
BEGIN:VEVENT
UID:69e78ccedde45
DTSTAMP:20260421T224222
DTSTART:20260605T183000Z
DTEND:20260605T213000Z
TZID:Australia/Perth
LOCATION:
SUMMARY:Moss Wood
DESCRIPTION:\nhttps://oldcourthouse.com.au/events/moss-wood/
URL:https://oldcourthouse.com.au/events/moss-wood/
END:VEVENT
END:VCALENDAR