BEGIN:VCALENDAR
VERSION:2.0
PRODID:-//eventon.com NONSGML v1.0//EN
CALSCALE:GREGORIAN
METHOD:PUBLISH
BEGIN:VEVENT
UID:69e7a7a582b2b
DTSTAMP:20260422T003653
DTSTART:20250815T190000Z
DTEND:20250815T235900Z
TZID:Australia/Perth
LOCATION:
SUMMARY:Pinot Party
DESCRIPTION:Pinot lovers\,  this is your time to shine! Their &#8216;aint no party like a Pinot Party\,  and for those who have been waiting for your fix\,  this is the night for lovers of the dark grape to come together and celebrate. Take a splash into the allure of the red[..]\nhttps://oldcourthouse.com.au/events/pinot-party/
URL:https://oldcourthouse.com.au/events/pinot-party/
END:VEVENT
END:VCALENDAR