BEGIN:VCALENDAR
VERSION:2.0
PRODID:-//eventon.com NONSGML v1.0//EN
CALSCALE:GREGORIAN
METHOD:PUBLISH
BEGIN:VEVENT
UID:69e78c9901247
DTSTAMP:20260421T224129
DTSTART:20260514T163000Z
DTEND:20260514T235900Z
TZID:Australia/Perth
LOCATION:
SUMMARY:Wedding Open Day
DESCRIPTION:The Fremantle Marriage Office\,  located at The Old Courthouse is a stunning venue to say &#8220;I Do&#8221; with a bespoke registry-style wedding. If you are newly engaged or exploring options to tie the knot in a simple but stylish fashion we invite you to join us for our next Wedding[..]\nhttps://oldcourthouse.com.au/events/wedding-open-day/
URL:https://oldcourthouse.com.au/events/wedding-open-day/
END:VEVENT
END:VCALENDAR