BEGIN:VCALENDAR
VERSION:2.0
PRODID:-//eventon.com NONSGML v1.0//EN
CALSCALE:GREGORIAN
METHOD:PUBLISH
BEGIN:VEVENT
UID:69e7a72a13c3a
DTSTAMP:20260422T003450
DTSTART:20250822T183000Z
DTEND:20250822T235900Z
TZID:Australia/Perth
LOCATION:
SUMMARY:Women in Wine
DESCRIPTION:You are invited to join us for an evening celebrating women in the West Australian wine industry. Hosted by the winemakers of the Hallett family\,  Laura and Sandy\,  both now leading the way for women in the winemaking industry\,  representing Three Elms and Alkoomi wines from WA&#8217;s Great Southern region.[..]\nhttps://oldcourthouse.com.au/events/women-in-wine/
URL:https://oldcourthouse.com.au/events/women-in-wine/
END:VEVENT
END:VCALENDAR