BEGIN:VCALENDAR
VERSION:2.0
PRODID:-//eventon.com NONSGML v1.0//EN
CALSCALE:GREGORIAN
METHOD:PUBLISH
BEGIN:VEVENT
UID:69e78b9d590fa
DTSTAMP:20260421T223717
DTSTART:20260528T180000Z
DTEND:20260528T235900Z
TZID:Australia/Perth
LOCATION:
SUMMARY:Thursday Night
DESCRIPTION:Thursday night hits different at the Old Courthouse. From 600pm\,  we&#8217;ll have a talented line-up of local musos playing the soundtrack to your sundowners. Entry is free every week! April &#8211; Stewart Herbertson THURSDAY SPECIALS: $12 SPRITZ Serving all day Thursday $20 BURGERS to feed those dancefloor vibes Gather your[..]\nhttps://oldcourthouse.com.au/events/thursday-night/var/ri-20.l-L1
URL:https://oldcourthouse.com.au/events/thursday-night/var/ri-20.l-L1
END:VEVENT
END:VCALENDAR