BEGIN:VCALENDAR
VERSION:2.0
PRODID:-//eventon.com NONSGML v1.0//EN
CALSCALE:GREGORIAN
METHOD:PUBLISH
BEGIN:VEVENT
UID:69e94897b3fe4
DTSTAMP:20260423T061551
DTSTART:20260924T180000Z
DTEND:20260924T235900Z
TZID:Australia/Perth
LOCATION:
SUMMARY:Thursday Night
DESCRIPTION:Thursday night hits different at the Old Courthouse. From 600pm\,  we&#8217;ll have a talented line-up of local musos playing the soundtrack to your sundowners. Entry is free every week! April &#8211; Stewart Herbertson THURSDAY SPECIALS: $12 SPRITZ Serving all day Thursday $20 BURGERS to feed those dancefloor vibes Gather your[..]\nhttps://oldcourthouse.com.au/events/thursday-night/var/ri-37.l-L1
URL:https://oldcourthouse.com.au/events/thursday-night/var/ri-37.l-L1
END:VEVENT
END:VCALENDAR