BEGIN:VCALENDAR
VERSION:2.0
PRODID:-//eventon.com NONSGML v1.0//EN
CALSCALE:GREGORIAN
METHOD:PUBLISH
BEGIN:VEVENT
UID:69e78ca1321cc
DTSTAMP:20260421T224137
DTSTART:20260522T193000Z
DTEND:20260522T235900Z
TZID:Australia/Perth
LOCATION:
SUMMARY:Drag Trivia
DESCRIPTION:&#8220;SLAY &amp; PLAY&#8221; Get your queens together and join us for a fabulous night of fun in Fremantle! Your hosts – Fay Rocious and Donna Kebab\,  bring the bling for Drag Trivia at the Old Courthouse. These nights are famous for being&nbsp;outrageously popular&nbsp;and an absolute blast! Expect a whole lotta[..]\nhttps://oldcourthouse.com.au/events/drag-trivia/
URL:https://oldcourthouse.com.au/events/drag-trivia/
END:VEVENT
END:VCALENDAR